BEGIN:VCALENDAR
VERSION:2.0
CALSCALE:GREGORIAN
PRODID:-//Diputació de Barcelona//DibaCMS//EN
BEGIN:VEVENT
UID:23373
DTSTAMP:20260424T000407
DTSTART:20240909T100000
DTEND:20240913T193000
SUMMARY:Inscripcions als tallers del Casal de la Gent Gran
LOCATION:Carrer de Sant Joan, 2 08755 Castellbisbal
METHOD:PUBLISH
X-WR-CALNAME:comunicacio@castellbisbal.cat
X-WR-TIMEZONE:Europe/Madrid
DESCRIPTION:Del 9 al 13 de setembre, al Casal de la Gent Gran.

URI:https://www.castellbisbal.cat/actualitat/agenda/23373-inscripcions-als-tallers-del-casal-de-la-gent-gran.html
CLASS:PUBLIC
END:VEVENT
END:VCALENDAR
