BEGIN:VCALENDAR
VERSION:2.0
CALSCALE:GREGORIAN
PRODID:-//Diputació de Barcelona//DibaCMS//EN
BEGIN:VEVENT
UID:23376
DTSTAMP:20260424T061154
DTSTART:20240914T190000
DTEND:20240914T190000
SUMMARY:Sopar del soci de la Casa de Andalucia
LOCATION:Avinguda de Pau Casals, 9 08755 Castellbisbal
METHOD:PUBLISH
X-WR-CALNAME:comunicacio@castellbisbal.cat
X-WR-TIMEZONE:Europe/Madrid
DESCRIPTION:A les 19.00 hores, al pati Adjutori Segarra (exteriors Ajuntament)

URI:https://www.castellbisbal.cat/actualitat/agenda/sopar-del-soci-de-la-casa-de-andalucia.html
CLASS:PUBLIC
END:VEVENT
END:VCALENDAR
