BEGIN:VCALENDAR
VERSION:2.0
CALSCALE:GREGORIAN
PRODID:-//Diputació de Barcelona//DibaCMS//EN
BEGIN:VEVENT
UID:23378
DTSTAMP:20260423T231919
DTSTART:20240829T000000
DTEND:20240901T000000
SUMMARY:Festes d'estiu de Can Campanyà
LOCATION:Avinguda Gayarre, 47 08755 Castellbisbal
METHOD:PUBLISH
X-WR-CALNAME:comunicacio@castellbisbal.cat
X-WR-TIMEZONE:Europe/Madrid
DESCRIPTION:Del 29 d'agost a l'1 de setembre, al local social de l'avinguda Gayarre, 43

URI:https://www.castellbisbal.cat/actualitat/agenda/23378-festes-destiu-de-can-campanya.html
CLASS:PUBLIC
END:VEVENT
END:VCALENDAR
