BEGIN:VCALENDAR
VERSION:2.0
CALSCALE:GREGORIAN
PRODID:-//Diputació de Barcelona//DibaCMS//EN
BEGIN:VEVENT
UID:23381
DTSTAMP:20260423T064347
DTSTART:20240821T190000
DTEND:20240821T190000
SUMMARY:5 minuts de silenci de condol per l'assassinat de dues dones
LOCATION:08755 Castellbisbal
METHOD:PUBLISH
X-WR-CALNAME:comunicacio@castellbisbal.cat
X-WR-TIMEZONE:Europe/Madrid
DESCRIPTION:A les 19.00 hores, a la Plaça de l'Església

URI:https://www.castellbisbal.cat/actualitat/agenda/5-minuts-de-silenci-de-condol-per-lassassinat-de-dues-dones.html
CLASS:PUBLIC
END:VEVENT
END:VCALENDAR
