BEGIN:VCALENDAR
VERSION:2.0
CALSCALE:GREGORIAN
PRODID:-//Diputació de Barcelona//DibaCMS//EN
BEGIN:VEVENT
UID:23388
DTSTAMP:20260424T011115
DTSTART:20240918T090000
DTEND:20240920T190000
SUMMARY:15es Jornades de la Gent Gran: Inscripcions activitats i venda d'entrades
LOCATION:Carrer de Sant Joan, 2 08755 Castellbisbal
METHOD:PUBLISH
X-WR-CALNAME:comunicacio@castellbisbal.cat
X-WR-TIMEZONE:Europe/Madrid
DESCRIPTION:Del 18 al 20 de setembre, al Casal de la Gent Gran

URI:https://www.castellbisbal.cat/actualitat/agenda/15es-jornades-de-la-gent-gran-inscripcions-activitats-i-venda-dentrades.html
CLASS:PUBLIC
END:VEVENT
END:VCALENDAR
