BEGIN:VCALENDAR
VERSION:2.0
CALSCALE:GREGORIAN
PRODID:-//Diputació de Barcelona//DibaCMS//EN
BEGIN:VEVENT
UID:23390
DTSTAMP:20260423T120250
DTSTART:20240912T000000
DTEND:20240913T000000
SUMMARY:Inscripcions als cursos de l'Oficina de Català de Castellbisbal: antics alumnes
LOCATION:Av. de Pau Casals 9 08755 Castellbisbal
METHOD:PUBLISH
X-WR-CALNAME:comunicacio@castellbisbal.cat
X-WR-TIMEZONE:Europe/Madrid
DESCRIPTION:Dies 12 i 13 de setembre, telemàticament o presencialment a l'Oficina de Català.

URI:https://www.castellbisbal.cat/actualitat/agenda/inscripcions-als-cursos-de-loficina-de-catala-de-castellbisbal-antics-alumnes.html
CLASS:PUBLIC
END:VEVENT
END:VCALENDAR
