BEGIN:VCALENDAR
VERSION:2.0
CALSCALE:GREGORIAN
PRODID:-//Diputació de Barcelona//DibaCMS//EN
BEGIN:VEVENT
UID:23402
DTSTAMP:20260423T162043
DTSTART:20240928T210000
DTEND:20240928T210000
SUMMARY:Festa Santa Teresita
LOCATION:Carrer Marinada 08755 Castellbisbal
METHOD:PUBLISH
X-WR-CALNAME:comunicacio@castellbisbal.cat
X-WR-TIMEZONE:Europe/Madrid
DESCRIPTION:A partir de les 21.00 hores al parc de Santa Teresita

URI:https://www.castellbisbal.cat/actualitat/agenda/festa-santa-teresita.html
CLASS:PUBLIC
END:VEVENT
END:VCALENDAR
