BEGIN:VCALENDAR
VERSION:2.0
CALSCALE:GREGORIAN
PRODID:-//Diputació de Barcelona//DibaCMS//EN
BEGIN:VEVENT
UID:23410
DTSTAMP:20260422T225519
DTSTART:20241109T170000
DTEND:20241109T170000
SUMMARY:Música: Havaneres i el Coro Rociero Sagrado Corazón de Jesús
LOCATION:Av. de Pau Casals, 16 08755 Castellbisbal
METHOD:PUBLISH
X-WR-CALNAME:comunicacio@castellbisbal.cat
X-WR-TIMEZONE:Europe/Madrid
DESCRIPTION:A les 17.00 hores, a l'Auditori d'Els Costals

URI:https://www.castellbisbal.cat/actualitat/agenda/musica-havaneres-i-el-coro-rociero-sagrado-corazon-de-jesus.html
CLASS:PUBLIC
END:VEVENT
END:VCALENDAR
