BEGIN:VCALENDAR
VERSION:2.0
CALSCALE:GREGORIAN
PRODID:-//Diputació de Barcelona//DibaCMS//EN
BEGIN:VEVENT
UID:23424
DTSTAMP:20260423T220305
DTSTART:20241107T190000
DTEND:20241107T190000
SUMMARY:Conferència: Giacomo Puccini, l’última llegenda de l’òpera italiana
LOCATION:Avinguda Pau Casals, 16 08755 Castellbisbal
METHOD:PUBLISH
X-WR-CALNAME:comunicacio@castellbisbal.cat
X-WR-TIMEZONE:Europe/Madrid
DESCRIPTION:A les 19.00 hores, a l'Espai Montserrat Roig

URI:https://www.castellbisbal.cat/actualitat/agenda/conferencia-giacomo-puccini-lultima-llegenda-de-lopera-italiana.html
CLASS:PUBLIC
END:VEVENT
END:VCALENDAR
