BEGIN:VCALENDAR
VERSION:2.0
CALSCALE:GREGORIAN
PRODID:-//Diputació de Barcelona//DibaCMS//EN
BEGIN:VEVENT
UID:23429
DTSTAMP:20260423T200218
DTSTART:20241028T170000
DTEND:20241130T200000
SUMMARY:Exposició: Nous Camins
LOCATION:Av. de Pau Casals, 16 08755 Castellbisbal
METHOD:PUBLISH
X-WR-CALNAME:comunicacio@castellbisbal.cat
X-WR-TIMEZONE:Europe/Madrid
DESCRIPTION:De dilluns a divendres de 17.00 a 20.00 hores, a la Sala d'exposicions d'Els Costals

URI:https://www.castellbisbal.cat/actualitat/agenda/exposicio-nous-camins.html
CLASS:PUBLIC
END:VEVENT
END:VCALENDAR
