BEGIN:VCALENDAR
VERSION:2.0
CALSCALE:GREGORIAN
PRODID:-//Diputació de Barcelona//DibaCMS//EN
BEGIN:VEVENT
UID:23436
DTSTAMP:20260423T065201
DTSTART:20240921T113000
DTEND:20240921T113000
SUMMARY:Laboratori creatiu: Micro fanzines de micro revolucions
LOCATION:Av. de Pau Casals, 16 08755 Castellbisbal
METHOD:PUBLISH
X-WR-CALNAME:comunicacio@castellbisbal.cat
X-WR-TIMEZONE:Europe/Madrid
DESCRIPTION:A les 11.30 hores, a la Biblioteca Municipal Josep Mateu i Miró

URI:https://www.castellbisbal.cat/actualitat/agenda/biblioteca/laboratori-creatiu-micro-fanzines-de-micro-revolucions.html
CLASS:PUBLIC
END:VEVENT
END:VCALENDAR
