BEGIN:VCALENDAR
VERSION:2.0
CALSCALE:GREGORIAN
PRODID:-//Diputació de Barcelona//DibaCMS//EN
BEGIN:VEVENT
UID:23437
DTSTAMP:20260423T201841
DTSTART:20240915T190000
DTEND:20240915T190000
SUMMARY:Concert: Shinhyo Lee & Shinhoo Lee 
LOCATION:Av. de Pau Casals 7 08755 Castellbisbal
METHOD:PUBLISH
X-WR-CALNAME:comunicacio@castellbisbal.cat
X-WR-TIMEZONE:Europe/Madrid
DESCRIPTION:A les 19.00 hores, al Casal Cultural i Recreatiu

URI:https://www.castellbisbal.cat/actualitat/agenda/concert-shinhyo-lee-and-shinhoo-lee-.html
CLASS:PUBLIC
END:VEVENT
END:VCALENDAR
