BEGIN:VCALENDAR
VERSION:2.0
CALSCALE:GREGORIAN
PRODID:-//Diputació de Barcelona//DibaCMS//EN
BEGIN:VEVENT
UID:23454
DTSTAMP:20260423T014016
DTSTART:20240914T000000
DTEND:20240922T000000
SUMMARY:SEM2024: Gaudeix del cotxe elèctric compartit!
LOCATION:Pl. Lluís Companys, 2 08755 Castellbisbal
METHOD:PUBLISH
X-WR-CALNAME:comunicacio@castellbisbal.cat
X-WR-TIMEZONE:Europe/Madrid
DESCRIPTION:Al llarg de la setmana, al Punt Verd

URI:https://www.castellbisbal.cat/actualitat/agenda/sem2024-gaudeix-del-cotxe-electric-compartit.html
CLASS:PUBLIC
END:VEVENT
END:VCALENDAR
