BEGIN:VCALENDAR
VERSION:2.0
CALSCALE:GREGORIAN
PRODID:-//Diputació de Barcelona//DibaCMS//EN
BEGIN:VEVENT
UID:23456
DTSTAMP:20260423T112536
DTSTART:20241011T190000
DTEND:20241011T190000
SUMMARY:SEM2024: Caminada nocturna familiar i taller de rapinyaires nocturnes
LOCATION:Parc de l'Ermita 08755 Castellbisbal
METHOD:PUBLISH
X-WR-CALNAME:comunicacio@castellbisbal.cat
X-WR-TIMEZONE:Europe/Madrid
DESCRIPTION:A partir de les 19.00 hores, des de l'aparcament del Parc de l'Ermita

URI:https://www.castellbisbal.cat/actualitat/agenda/sem2024-caminada-nocturna-familiar-i-taller-de-rapinyaires-nocturnes.html
CLASS:PUBLIC
END:VEVENT
END:VCALENDAR
