BEGIN:VCALENDAR
VERSION:2.0
CALSCALE:GREGORIAN
PRODID:-//Diputació de Barcelona//DibaCMS//EN
BEGIN:VEVENT
UID:23459
DTSTAMP:20260421T230108
DTSTART:20240919T190000
DTEND:20240919T190000
SUMMARY:Festival NYS: Inauguració del festival NYS Polígon Arts i obertura de l'exposició "El retorn: entre l'esperança i la devastació"
LOCATION:Av. de Pau Casals, 16 08755 Castellbisbal
METHOD:PUBLISH
X-WR-CALNAME:comunicacio@castellbisbal.cat
X-WR-TIMEZONE:Europe/Madrid
DESCRIPTION:A les 19.00 hores, a la Sala d'exposicions d'Els Costals

URI:https://www.castellbisbal.cat/actualitat/agenda/festival-nys-inauguracio-del-festival-nys-poligon-arts-i-obertura-de-lexposicio-el-retorn-entre-lesperanca-i-la-devastacio.html
CLASS:PUBLIC
END:VEVENT
END:VCALENDAR
