BEGIN:VCALENDAR
VERSION:2.0
CALSCALE:GREGORIAN
PRODID:-//Diputació de Barcelona//DibaCMS//EN
BEGIN:VEVENT
UID:23460
DTSTAMP:20260423T133219
DTSTART:20240921T090000
DTEND:20240921T130000
SUMMARY:Festival NYS: 3r mercat solidari i d'intercanvi
LOCATION:08755 Castellbisbal
METHOD:PUBLISH
X-WR-CALNAME:comunicacio@castellbisbal.cat
X-WR-TIMEZONE:Europe/Madrid
DESCRIPTION:A causa de la previsió meteorològica, s'ha ajornat l'activitat al 19 d'octubre!

URI:https://www.castellbisbal.cat/actualitat/agenda/festival-nys-3r-mercat-solidari-i-dintercanvi.html
CLASS:PUBLIC
END:VEVENT
END:VCALENDAR
