BEGIN:VCALENDAR
VERSION:2.0
CALSCALE:GREGORIAN
PRODID:-//Diputació de Barcelona//DibaCMS//EN
BEGIN:VEVENT
UID:23462
DTSTAMP:20260423T032805
DTSTART:20241004T190000
DTEND:20241004T190000
SUMMARY:Festival NYS: Concert "Interludis entre Bach i Boccherini"
LOCATION:
METHOD:PUBLISH
X-WR-CALNAME:comunicacio@castellbisbal.cat
X-WR-TIMEZONE:Europe/Madrid
DESCRIPTION:A les 19.00 hores, a l'Esteva (c. Cinemàtica, 9)

URI:https://www.castellbisbal.cat/actualitat/agenda/festival-nys-concert-interludis-entre-bach-i-boccherini.html
CLASS:PUBLIC
END:VEVENT
END:VCALENDAR
