BEGIN:VCALENDAR
VERSION:2.0
CALSCALE:GREGORIAN
PRODID:-//Diputació de Barcelona//DibaCMS//EN
BEGIN:VEVENT
UID:23466
DTSTAMP:20260424T103652
DTSTART:20241012T120000
DTEND:20241012T120000
SUMMARY:Festival NYS: Espectacle de circ
LOCATION:
METHOD:PUBLISH
X-WR-CALNAME:comunicacio@castellbisbal.cat
X-WR-TIMEZONE:Europe/Madrid
DESCRIPTION:A les 12.00 hores, a MANXA Ferros (c. Acústica, 5)

URI:https://www.castellbisbal.cat/actualitat/agenda/festival-nys-espectacle-de-circ.html
CLASS:PUBLIC
END:VEVENT
END:VCALENDAR
