BEGIN:VCALENDAR
VERSION:2.0
CALSCALE:GREGORIAN
PRODID:-//Diputació de Barcelona//DibaCMS//EN
BEGIN:VEVENT
UID:23468
DTSTAMP:20260424T110407
DTSTART:20241018T120000
DTEND:20241018T120000
SUMMARY:Festival NYS: Performance "Exploració Corporal #6. 1820 reduïda a la producció"
LOCATION:C. Forja, 1 ( Pol. Ind. Comte de Sert ) 08755 Castellbisbal
METHOD:PUBLISH
X-WR-CALNAME:comunicacio@castellbisbal.cat
X-WR-TIMEZONE:Europe/Madrid
DESCRIPTION:De 12.00 a 20.00 hores, a la Ferreria Balsells (c. la Forja, 1)

URI:https://www.castellbisbal.cat/actualitat/agenda/festival-nys-performance-exploracio-corporal-6-1820-reduida-a-la-produccio.html
CLASS:PUBLIC
END:VEVENT
END:VCALENDAR
