BEGIN:VCALENDAR
VERSION:2.0
CALSCALE:GREGORIAN
PRODID:-//Diputació de Barcelona//DibaCMS//EN
BEGIN:VEVENT
UID:23470
DTSTAMP:20260423T145405
DTSTART:20241019T190000
DTEND:20241019T190000
SUMMARY:Festival NYS: Teatre "Els pastorets de casa nostra"
LOCATION:Pol. Ind. Comte de Sert C. Farga, 23 08755 Castellbisbal
METHOD:PUBLISH
X-WR-CALNAME:comunicacio@castellbisbal.cat
X-WR-TIMEZONE:Europe/Madrid
DESCRIPTION:A les 19.00 hores, a la Bemens (c. la Farga, 23)

URI:https://www.castellbisbal.cat/actualitat/agenda/festival-nys-teatre-els-pastorets-de-casa-nostra.html
CLASS:PUBLIC
END:VEVENT
END:VCALENDAR
