BEGIN:VCALENDAR
VERSION:2.0
CALSCALE:GREGORIAN
PRODID:-//Diputació de Barcelona//DibaCMS//EN
BEGIN:VEVENT
UID:23471
DTSTAMP:20260424T054126
DTSTART:20241020T100000
DTEND:20241020T100000
SUMMARY:Festival NYS: Ruta "21.900"
LOCATION:
METHOD:PUBLISH
X-WR-CALNAME:comunicacio@castellbisbal.cat
X-WR-TIMEZONE:Europe/Madrid
DESCRIPTION:A les 10.00 hores, a l'estació dels FGC del Palau (Sant Andreu de la Barca)

URI:https://www.castellbisbal.cat/actualitat/agenda/festival-nys-ruta-21900.html
CLASS:PUBLIC
END:VEVENT
END:VCALENDAR
