BEGIN:VCALENDAR
VERSION:2.0
CALSCALE:GREGORIAN
PRODID:-//Diputació de Barcelona//DibaCMS//EN
BEGIN:VEVENT
UID:23472
DTSTAMP:20260423T163143
DTSTART:20240920T170000
DTEND:20240920T170000
SUMMARY:Jornada amb la Policia Local de Castellbisbal
LOCATION:Parc Folch i Torres 08755 Castellbisbal
METHOD:PUBLISH
X-WR-CALNAME:comunicacio@castellbisbal.cat
X-WR-TIMEZONE:Europe/Madrid
DESCRIPTION:A les 17.00 hores, a la plaça Folch i Torres

URI:https://www.castellbisbal.cat/actualitat/agenda/jornada-amb-la-policia-local-de-castellbisbal.html
CLASS:PUBLIC
END:VEVENT
END:VCALENDAR
