BEGIN:VCALENDAR
VERSION:2.0
CALSCALE:GREGORIAN
PRODID:-//Diputació de Barcelona//DibaCMS//EN
BEGIN:VEVENT
UID:23473
DTSTAMP:20260422T143022
DTSTART:20241026T090000
DTEND:20241026T090000
SUMMARY:Matí al Museu del Tractor d'Època
LOCATION:C. Comunicacions, 8 08755 Castellbisbal
METHOD:PUBLISH
X-WR-CALNAME:comunicacio@castellbisbal.cat
X-WR-TIMEZONE:Europe/Madrid
DESCRIPTION:De 9.00 a 14.00 hores, al Museu del Tractor de l'Època

URI:https://www.castellbisbal.cat/actualitat/agenda/mati-al-museu-del-tractor-depoca.html
CLASS:PUBLIC
END:VEVENT
END:VCALENDAR
