BEGIN:VCALENDAR
VERSION:2.0
CALSCALE:GREGORIAN
PRODID:-//Diputació de Barcelona//DibaCMS//EN
BEGIN:VEVENT
UID:23475
DTSTAMP:20260423T104459
DTSTART:20240928T100000
DTEND:20240928T100000
SUMMARY:Xerrada - taller: Exercici físic i salut en la dona
LOCATION:C. Agricultura, s/n 08755 Castellbisbal
METHOD:PUBLISH
X-WR-CALNAME:comunicacio@castellbisbal.cat
X-WR-TIMEZONE:Europe/Madrid
DESCRIPTION:A les 10.00 hores, a l'Illa Esportiva

URI:https://www.castellbisbal.cat/actualitat/agenda/xerrada-taller-exercici-fisic-i-salut-en-la-dona.html
CLASS:PUBLIC
END:VEVENT
END:VCALENDAR
