BEGIN:VCALENDAR
VERSION:2.0
CALSCALE:GREGORIAN
PRODID:-//Diputació de Barcelona//DibaCMS//EN
BEGIN:VEVENT
UID:23489
DTSTAMP:20260423T051557
DTSTART:20240919T190000
DTEND:20241020T190000
SUMMARY:Festival NYS: Instal·lacions artístiques
LOCATION:
METHOD:PUBLISH
X-WR-CALNAME:comunicacio@castellbisbal.cat
X-WR-TIMEZONE:Europe/Madrid
DESCRIPTION:Del 19 de setembre al 20 d'octubre

URI:https://www.castellbisbal.cat/actualitat/agenda/festival-nys-installacions-artistiques.html
CLASS:PUBLIC
END:VEVENT
END:VCALENDAR
