BEGIN:VCALENDAR
VERSION:2.0
CALSCALE:GREGORIAN
PRODID:-//Diputació de Barcelona//DibaCMS//EN
BEGIN:VEVENT
UID:23495
DTSTAMP:20260423T015727
DTSTART:20240928T110000
DTEND:20240929T140000
SUMMARY:Festa Major de Costablanca
LOCATION:
METHOD:PUBLISH
X-WR-CALNAME:comunicacio@castellbisbal.cat
X-WR-TIMEZONE:Europe/Madrid
DESCRIPTION:Cap de setmana del 28 i 29 de setembre

URI:https://www.castellbisbal.cat/actualitat/agenda/23495-festa-major-de-costablanca.html
CLASS:PUBLIC
END:VEVENT
END:VCALENDAR
