BEGIN:VCALENDAR
VERSION:2.0
CALSCALE:GREGORIAN
PRODID:-//Diputació de Barcelona//DibaCMS//EN
BEGIN:VEVENT
UID:23501
DTSTAMP:20260423T182141
DTSTART:20240923T000000
DTEND:20241027T000000
SUMMARY:Vuitè concurs: Random relats 2024
LOCATION:
METHOD:PUBLISH
X-WR-CALNAME:comunicacio@castellbisbal.cat
X-WR-TIMEZONE:Europe/Madrid
DESCRIPTION:Fins el 27 d'octubre, envia el teu relat vía correu electrònic.

URI:https://www.castellbisbal.cat/actualitat/agenda/vuite-concurs-random-relats-2024.html
CLASS:PUBLIC
END:VEVENT
END:VCALENDAR
