BEGIN:VCALENDAR
VERSION:2.0
CALSCALE:GREGORIAN
PRODID:-//Diputació de Barcelona//DibaCMS//EN
BEGIN:VEVENT
UID:23520
DTSTAMP:20260423T032302
DTSTART:20240927T113000
DTEND:20240927T113000
SUMMARY:Sessió d'orientació a la recerca de feina
LOCATION:
METHOD:PUBLISH
X-WR-CALNAME:comunicacio@castellbisbal.cat
X-WR-TIMEZONE:Europe/Madrid
DESCRIPTION:A les 11.30 hores, a l'Espai Margarida Xurgu

URI:https://www.castellbisbal.cat/actualitat/agenda/sessio-dorientacio-a-la-recerca-de-feina.html
CLASS:PUBLIC
END:VEVENT
END:VCALENDAR
