BEGIN:VCALENDAR
VERSION:2.0
CALSCALE:GREGORIAN
PRODID:-//Diputació de Barcelona//DibaCMS//EN
BEGIN:VEVENT
UID:23552
DTSTAMP:20260422T225343
DTSTART:20250218T180000
DTEND:20250218T193000
SUMMARY:Xerrada: "Quin exercici hem de fer per baixar pes?"
LOCATION:Av. Pau Casals, 12 08755 Castellbisbal
METHOD:PUBLISH
X-WR-CALNAME:comunicacio@castellbisbal.cat
X-WR-TIMEZONE:Europe/Madrid
DESCRIPTION:El 18 de febrer, a les 18.00 hores, al CAP Dr. Joan Planas

URI:https://www.castellbisbal.cat/actualitat/agenda/xerrada-quin-exercici-hem-de-fer-per-baixar-pes.html
CLASS:PUBLIC
END:VEVENT
END:VCALENDAR
