BEGIN:VCALENDAR
VERSION:2.0
CALSCALE:GREGORIAN
PRODID:-//Diputació de Barcelona//DibaCMS//EN
BEGIN:VEVENT
UID:23553
DTSTAMP:20260422T114346
DTSTART:20250325T180000
DTEND:20250325T180000
SUMMARY:Xerrada: "Alimentació, obesitat, sobrepès?"
LOCATION:Av. Pau Casals, 12 08755 Castellbisbal
METHOD:PUBLISH
X-WR-CALNAME:comunicacio@castellbisbal.cat
X-WR-TIMEZONE:Europe/Madrid
DESCRIPTION:El 25 de març, a les 18.00 hores, al CAP Dr. Joan Planas

URI:https://www.castellbisbal.cat/actualitat/agenda/xerrada-alimentacio-obesitat-sobrepes.html
CLASS:PUBLIC
END:VEVENT
END:VCALENDAR
