BEGIN:VCALENDAR
VERSION:2.0
CALSCALE:GREGORIAN
PRODID:-//Diputació de Barcelona//DibaCMS//EN
BEGIN:VEVENT
UID:23605
DTSTAMP:20260423T082627
DTSTART:20241023T173000
DTEND:20241023T173000
SUMMARY:Taller de carbasses de tela
LOCATION:
METHOD:PUBLISH
X-WR-CALNAME:comunicacio@castellbisbal.cat
X-WR-TIMEZONE:Europe/Madrid
DESCRIPTION:A les 17.30 hores, a l'Associaicó Veïnal de Costablanca

URI:https://www.castellbisbal.cat/actualitat/agenda/taller-de-carbasses-de-tela.html
CLASS:PUBLIC
END:VEVENT
END:VCALENDAR
