BEGIN:VCALENDAR
VERSION:2.0
CALSCALE:GREGORIAN
PRODID:-//Diputació de Barcelona//DibaCMS//EN
BEGIN:VEVENT
UID:23607
DTSTAMP:20260422T222856
DTSTART:20241130T080000
DTEND:20241130T080000
SUMMARY:Sortida de la Gent Gran: Roc de Sant Gaietà i Torredembarra
LOCATION:
METHOD:PUBLISH
X-WR-CALNAME:comunicacio@castellbisbal.cat
X-WR-TIMEZONE:Europe/Madrid
DESCRIPTION:Sortida a le 8.00 hores, al Casal de la Gent Gran

URI:https://www.castellbisbal.cat/actualitat/agenda/sortida-de-la-gent-gran-roc-de-sant-gaieta-i-torredembarra.html
CLASS:PUBLIC
END:VEVENT
END:VCALENDAR
