BEGIN:VCALENDAR
VERSION:2.0
CALSCALE:GREGORIAN
PRODID:-//Diputació de Barcelona//DibaCMS//EN
BEGIN:VEVENT
UID:23610
DTSTAMP:20260423T222447
DTSTART:20231031T193000
DTEND:20231031T193000
SUMMARY:Halloween infantil a Can Santeugini - duplicat
LOCATION:Carrer Montjuic, 14-20 08755 Castellbisbal
METHOD:PUBLISH
X-WR-CALNAME:comunicacio@castellbisbal.cat
X-WR-TIMEZONE:Europe/Madrid
DESCRIPTION:A les 19.30 hores, al centre cívic de Can Santeugini

URI:https://www.castellbisbal.cat/actualitat/agenda/halloween-infantil-a-can-santeugini-duplicat.html
CLASS:PUBLIC
END:VEVENT
END:VCALENDAR
