BEGIN:VCALENDAR
VERSION:2.0
CALSCALE:GREGORIAN
PRODID:-//Diputació de Barcelona//DibaCMS//EN
BEGIN:VEVENT
UID:23618
DTSTAMP:20260421T104134
DTSTART:20241105T180000
DTEND:20241105T180000
SUMMARY:Racó Jove: Xerrada "Recursos per a l'estudi"
LOCATION:Carrer Francesc Macià, 64 08755 Castellbisbal
METHOD:PUBLISH
X-WR-CALNAME:comunicacio@castellbisbal.cat
X-WR-TIMEZONE:Europe/Madrid
DESCRIPTION:De 18.00 a 19.00 hores, al Racó Jove.

URI:https://www.castellbisbal.cat/actualitat/agenda/raco-jove-xerrada-recursos-per-a-lestudi.html
CLASS:PUBLIC
END:VEVENT
END:VCALENDAR
