BEGIN:VCALENDAR
VERSION:2.0
CALSCALE:GREGORIAN
PRODID:-//Diputació de Barcelona//DibaCMS//EN
BEGIN:VEVENT
UID:23619
DTSTAMP:20260424T005222
DTSTART:20241107T180000
DTEND:20241107T180000
SUMMARY:Racó Jove: Cinefòrum Jove
LOCATION:Carrer Francesc Macià, 64 08755 Castellbisbal
METHOD:PUBLISH
X-WR-CALNAME:comunicacio@castellbisbal.cat
X-WR-TIMEZONE:Europe/Madrid
DESCRIPTION:De 18.00 a 19.30 hores, al Racó Jove.

URI:https://www.castellbisbal.cat/actualitat/agenda/raco-jove-cineforum-jove.html
CLASS:PUBLIC
END:VEVENT
END:VCALENDAR
