BEGIN:VCALENDAR
VERSION:2.0
CALSCALE:GREGORIAN
PRODID:-//Diputació de Barcelona//DibaCMS//EN
BEGIN:VEVENT
UID:23627
DTSTAMP:20260423T113847
DTSTART:20241128T180000
DTEND:20241128T180000
SUMMARY:Racó Jove: Dinàmica musical 
LOCATION:Carrer Francesc Macià, 64 08755 Castellbisbal
METHOD:PUBLISH
X-WR-CALNAME:comunicacio@castellbisbal.cat
X-WR-TIMEZONE:Europe/Madrid
DESCRIPTION:De 18.00 a 19.30 hores, al Racó Jove.

URI:https://www.castellbisbal.cat/actualitat/agenda/raco-jove-dinamica-musical-.html
CLASS:PUBLIC
END:VEVENT
END:VCALENDAR
