BEGIN:VCALENDAR
VERSION:2.0
CALSCALE:GREGORIAN
PRODID:-//Diputació de Barcelona//DibaCMS//EN
BEGIN:VEVENT
UID:23628
DTSTAMP:20260422T235348
DTSTART:20241102T180000
DTEND:20241102T180000
SUMMARY:Túnel Cinescrim a Can Santeugini
LOCATION:Carrer Montjuic, 14-20 08755 Castellbisbal
METHOD:PUBLISH
X-WR-CALNAME:comunicacio@castellbisbal.cat
X-WR-TIMEZONE:Europe/Madrid
DESCRIPTION:A partir de les 18.00 hores, al Casal de Can Santeugini

URI:https://www.castellbisbal.cat/actualitat/agenda/tunel-cinescrim-a-can-santeugini.html
CLASS:PUBLIC
END:VEVENT
END:VCALENDAR
