BEGIN:VCALENDAR
VERSION:2.0
CALSCALE:GREGORIAN
PRODID:-//Diputació de Barcelona//DibaCMS//EN
BEGIN:VEVENT
UID:23657
DTSTAMP:20260425T001939
DTSTART:20241127T190000
DTEND:20241127T190000
SUMMARY:Visita d'autor: Albert Om
LOCATION:Av. de Pau Casals, 16 08755 Castellbisbal
METHOD:PUBLISH
X-WR-CALNAME:comunicacio@castellbisbal.cat
X-WR-TIMEZONE:Europe/Madrid
DESCRIPTION:A les 19.00 hores, a la Biblioteca Municipal Josep Mateu i Miró

URI:https://www.castellbisbal.cat/actualitat/agenda/biblioteca/visita-dautor-albert-om.html
CLASS:PUBLIC
END:VEVENT
END:VCALENDAR
