BEGIN:VCALENDAR
VERSION:2.0
CALSCALE:GREGORIAN
PRODID:-//Diputació de Barcelona//DibaCMS//EN
BEGIN:VEVENT
UID:23665
DTSTAMP:20260422T192105
DTSTART:20241125T090000
DTEND:20241125T090000
SUMMARY:Jornades d'Igualtat als instituts
LOCATION:Plaça Lluís Companys, 7 08755 Castellbisbal
METHOD:PUBLISH
X-WR-CALNAME:comunicacio@castellbisbal.cat
X-WR-TIMEZONE:Europe/Madrid
DESCRIPTION:Durant el matí, a l'Institut Castellbisbal i a l'Institut-Escola Les Vinyes

URI:https://www.castellbisbal.cat/actualitat/agenda/jornades-digualtat-als-instituts.html
CLASS:PUBLIC
END:VEVENT
END:VCALENDAR
