BEGIN:VCALENDAR
VERSION:2.0
CALSCALE:GREGORIAN
PRODID:-//Diputació de Barcelona//DibaCMS//EN
BEGIN:VEVENT
UID:23671
DTSTAMP:20260422T191903
DTSTART:20241203T190000
DTEND:20241203T190000
SUMMARY:Conferència: “El Cant de la Sibil·la i les cançons de Nadal a Castellbisbal”
LOCATION:Avinguda Pau Casals, 16 08755 Castellbisbal
METHOD:PUBLISH
X-WR-CALNAME:comunicacio@castellbisbal.cat
X-WR-TIMEZONE:Europe/Madrid
DESCRIPTION:A les 19.00 hores, a l'Espai Montserrat Roig d'Els Costals

URI:https://www.castellbisbal.cat/actualitat/agenda/23671-conferencia-el-cant-de-la-sibilla-i-les-cancons-de-nadal-a-castellbisbal.html
CLASS:PUBLIC
END:VEVENT
END:VCALENDAR
