BEGIN:VCALENDAR
VERSION:2.0
CALSCALE:GREGORIAN
PRODID:-//Diputació de Barcelona//DibaCMS//EN
BEGIN:VEVENT
UID:23679
DTSTAMP:20260422T132456
DTSTART:20241220T180000
DTEND:20241220T180000
SUMMARY:Concert de villancicos
LOCATION:
METHOD:PUBLISH
X-WR-CALNAME:comunicacio@castellbisbal.cat
X-WR-TIMEZONE:Europe/Madrid
DESCRIPTION:A les 18.00 hores, a l'Església Sant Vicenç

URI:https://www.castellbisbal.cat/actualitat/agenda/concert-de-villancicos.html
CLASS:PUBLIC
END:VEVENT
END:VCALENDAR
