BEGIN:VCALENDAR
VERSION:2.0
CALSCALE:GREGORIAN
PRODID:-//Diputació de Barcelona//DibaCMS//EN
BEGIN:VEVENT
UID:23685
DTSTAMP:20260423T015740
DTSTART:20241220T100000
DTEND:20250105T200000
SUMMARY:Nadal al Museu de la Pagesia
LOCATION:Carrer Pi i Margall, 13 08755 Castellbisbal
METHOD:PUBLISH
X-WR-CALNAME:comunicacio@castellbisbal.cat
X-WR-TIMEZONE:Europe/Madrid
DESCRIPTION:Fins al 5 de gener, al Museu de la Pagesia.

URI:https://www.castellbisbal.cat/actualitat/agenda/nadal-al-museu-de-la-pagesia.html
CLASS:PUBLIC
END:VEVENT
END:VCALENDAR
