BEGIN:VCALENDAR
VERSION:2.0
CALSCALE:GREGORIAN
PRODID:-//Diputació de Barcelona//DibaCMS//EN
BEGIN:VEVENT
UID:23690
DTSTAMP:20260422T034255
DTSTART:20250201T100000
DTEND:20250201T210000
SUMMARY:Jorn de joc
LOCATION:Carrer Montjuic, 14-20 08755 Castellbisbal
METHOD:PUBLISH
X-WR-CALNAME:comunicacio@castellbisbal.cat
X-WR-TIMEZONE:Europe/Madrid
DESCRIPTION:L'1 de febrer, de 10.00 a 21.00 hores, al centre cívic de Can Santeugini

URI:https://www.castellbisbal.cat/actualitat/agenda/jorn-de-joc.html
CLASS:PUBLIC
END:VEVENT
END:VCALENDAR
