BEGIN:VCALENDAR
VERSION:2.0
CALSCALE:GREGORIAN
PRODID:-//Diputació de Barcelona//DibaCMS//EN
BEGIN:VEVENT
UID:23701
DTSTAMP:20260423T031834
DTSTART:20241203T180000
DTEND:20241203T180000
SUMMARY:Taller creatiu: Decorem el nadal
LOCATION:Av. de Pau Casals, 16 08755 Castellbisbal
METHOD:PUBLISH
X-WR-CALNAME:comunicacio@castellbisbal.cat
X-WR-TIMEZONE:Europe/Madrid
DESCRIPTION:A les 18.00 hores, a la Biblioteca Municipal Josep Mateu i Miró

URI:https://www.castellbisbal.cat/actualitat/agenda/biblioteca/23701-taller-creatiu-decorem-el-nadal.html
CLASS:PUBLIC
END:VEVENT
END:VCALENDAR
