BEGIN:VCALENDAR
VERSION:2.0
CALSCALE:GREGORIAN
PRODID:-//Diputació de Barcelona//DibaCMS//EN
BEGIN:VEVENT
UID:23706
DTSTAMP:20260422T163641
DTSTART:20241124T090000
DTEND:20241124T090000
SUMMARY:Finals de la XXVI Rally Slot Castellbisbal
LOCATION:Av. de Pau Casals 7 08755 Castellbisbal
METHOD:PUBLISH
X-WR-CALNAME:comunicacio@castellbisbal.cat
X-WR-TIMEZONE:Europe/Madrid
DESCRIPTION:Durant el matí, al Casal Cultural i Recreatiu de Castellbisbal

URI:https://www.castellbisbal.cat/actualitat/agenda/finals-de-la-xxvi-rally-slot-castellbisbal.html
CLASS:PUBLIC
END:VEVENT
END:VCALENDAR
