BEGIN:VCALENDAR
VERSION:2.0
CALSCALE:GREGORIAN
PRODID:-//Diputació de Barcelona//DibaCMS//EN
BEGIN:VEVENT
UID:23715
DTSTAMP:20260422T192047
DTSTART:20241202T180000
DTEND:20241202T180000
SUMMARY:Xerrada: El dret a un habitatge
LOCATION:Carrer Francesc Macià, 64 08755 Castellbisbal
METHOD:PUBLISH
X-WR-CALNAME:comunicacio@castellbisbal.cat
X-WR-TIMEZONE:Europe/Madrid
DESCRIPTION:XERRADA POSPOSADA. Pendent de nova data!

URI:https://www.castellbisbal.cat/actualitat/agenda/xerrada-el-dret-a-un-habitatge.html
CLASS:PUBLIC
END:VEVENT
END:VCALENDAR
