BEGIN:VCALENDAR
VERSION:2.0
CALSCALE:GREGORIAN
PRODID:-//Diputació de Barcelona//DibaCMS//EN
BEGIN:VEVENT
UID:23722
DTSTAMP:20260422T100320
DTSTART:20250105T180000
DTEND:20250105T180000
SUMMARY:Cavalcada dels Reis de l'Orient
LOCATION:
METHOD:PUBLISH
X-WR-CALNAME:comunicacio@castellbisbal.cat
X-WR-TIMEZONE:Europe/Madrid
DESCRIPTION:Sortida a les 18.00 hores, des de la rotonda 1 d'Octubre (carrer de l'Olivar)

URI:https://www.castellbisbal.cat/actualitat/agenda/23722-cavalcada-dels-reis-de-lorient.html
CLASS:PUBLIC
END:VEVENT
END:VCALENDAR
