BEGIN:VCALENDAR
VERSION:2.0
CALSCALE:GREGORIAN
PRODID:-//Diputació de Barcelona//DibaCMS//EN
BEGIN:VEVENT
UID:23742
DTSTAMP:20260422T100401
DTSTART:20241212T170000
DTEND:20241212T170000
SUMMARY:Recull de narracions i contes per a la Gent Gran
LOCATION:Carrer de Sant Joan, 2 08755 Castellbisbal
METHOD:PUBLISH
X-WR-CALNAME:comunicacio@castellbisbal.cat
X-WR-TIMEZONE:Europe/Madrid
DESCRIPTION:A les 17.00 hores, al Casal de la Gent Gran

URI:https://www.castellbisbal.cat/actualitat/agenda/recull-de-narracions-i-contes-per-a-la-gent-gran.html
CLASS:PUBLIC
END:VEVENT
END:VCALENDAR
