BEGIN:VCALENDAR
VERSION:2.0
CALSCALE:GREGORIAN
PRODID:-//Diputació de Barcelona//DibaCMS//EN
BEGIN:VEVENT
UID:23743
DTSTAMP:20260422T140755
DTSTART:20241212T110000
DTEND:20241212T200000
SUMMARY:El Cap Doctor Joan Planas amb La Marató de TV3
LOCATION:
METHOD:PUBLISH
X-WR-CALNAME:comunicacio@castellbisbal.cat
X-WR-TIMEZONE:Europe/Madrid
DESCRIPTION:A partir de les 11.00 hores, a la Sala d'educació sanitària del Cap Doctor Joan Planas

URI:https://www.castellbisbal.cat/actualitat/agenda/el-cap-doctor-joan-planas-amb-la-marato-de-tv3.html
CLASS:PUBLIC
END:VEVENT
END:VCALENDAR
