BEGIN:VCALENDAR
VERSION:2.0
CALSCALE:GREGORIAN
PRODID:-//Diputació de Barcelona//DibaCMS//EN
BEGIN:VEVENT
UID:23745
DTSTAMP:20260422T224441
DTSTART:20241213T180000
DTEND:20241213T200000
SUMMARY:El Cap Doctor Joan Planas amb La Marató de TV3
LOCATION:
METHOD:PUBLISH
X-WR-CALNAME:comunicacio@castellbisbal.cat
X-WR-TIMEZONE:Europe/Madrid
DESCRIPTION:De 18.00 a 20.00 hores, a la Sala d'educació sanitària del Cap Doctor Joan Planas

URI:https://www.castellbisbal.cat/actualitat/agenda/23745-el-cap-doctor-joan-planas-amb-la-marato-de-tv3.html
CLASS:PUBLIC
END:VEVENT
END:VCALENDAR
